BEGIN:VCALENDAR
PRODID:-//github.com/ical-org/ical.net//NONSGML ical.net 5.2.1//EN
VERSION:2.0
BEGIN:VEVENT
DESCRIPTION:
DTEND;TZID=Europe/Amsterdam:20260924T203000
DTSTAMP:20260425T135356Z
DTSTART;TZID=Europe/Amsterdam:20260924T173000
SEQUENCE:0
SUMMARY:Fotomoment
UID:agenda-141@fotoflare.fotoclubsite.nl
END:VEVENT
END:VCALENDAR
