BEGIN:VCALENDAR
PRODID:-//github.com/ical-org/ical.net//NONSGML ical.net 5.2.1//EN
VERSION:2.0
BEGIN:VEVENT
DESCRIPTION:
DTEND;TZID=Europe/Amsterdam:20261010T093000
DTSTAMP:20260425T135331Z
DTSTART;TZID=Europe/Amsterdam:20261010T070000
LOCATION:nog te bepalen
SEQUENCE:0
SUMMARY:Workshop " Dauwtrip "
UID:agenda-142@fotoflare.fotoclubsite.nl
END:VEVENT
END:VCALENDAR
