BEGIN:VCALENDAR
PRODID:-//github.com/ical-org/ical.net//NONSGML ical.net 5.2.1//EN
VERSION:2.0
BEGIN:VEVENT
DESCRIPTION:Fototenstelling van de leden in het kader van Kunstbuur.
DTEND;TZID=Europe/Amsterdam:20261018T150000
DTSTAMP:20260425T135040Z
DTSTART;TZID=Europe/Amsterdam:20261016T070000
LOCATION:OC Damberd\, 11\, Marktplein\, Meiboom\, Zwevezele\, Wingene\, Tie
 lt\, West-Vlaanderen\, Vlaanderen\, 8750\, België
SEQUENCE:0
SUMMARY:Fototentoonstelling KUNSTBUUR
UID:agenda-143@fotoflare.fotoclubsite.nl
END:VEVENT
END:VCALENDAR
