BEGIN:VCALENDAR
PRODID:-//github.com/ical-org/ical.net//NONSGML ical.net 5.2.1//EN
VERSION:2.0
BEGIN:VEVENT
DESCRIPTION:Modellen fotograferen met flts in natuuromgeving
DTEND;TZID=Europe/Amsterdam:20261112T213000
DTSTAMP:20260425T135055Z
DTSTART;TZID=Europe/Amsterdam:20261112T183000
LOCATION:Nog nader te bepalen
SEQUENCE:0
SUMMARY:Workshop "Herfstshoot model & Flits "
UID:agenda-145@fotoflare.fotoclubsite.nl
END:VEVENT
END:VCALENDAR
