BEGIN:VCALENDAR
PRODID:-//github.com/ical-org/ical.net//NONSGML ical.net 5.2.1//EN
VERSION:2.0
BEGIN:VEVENT
DESCRIPTION:
DTEND;TZID=Europe/Amsterdam:20261126T213000
DTSTAMP:20260425T135136Z
DTSTART;TZID=Europe/Amsterdam:20261126T183000
LOCATION:OC Damberd\, 11\, Marktplein\, Hille\, Zwevezele\, Wingene\, Tielt
 \, West-Vlaanderen\, 8750\, België
SEQUENCE:0
SUMMARY:Fotomoment
UID:agenda-146@fotoflare.fotoclubsite.nl
END:VEVENT
END:VCALENDAR
