BEGIN:VCALENDAR
PRODID:-//github.com/ical-org/ical.net//NONSGML ical.net 5.2.1//EN
VERSION:2.0
BEGIN:VEVENT
DESCRIPTION:
DTEND;TZID=Europe/Amsterdam:20261210T213000
DTSTAMP:20260425T135208Z
DTSTART;TZID=Europe/Amsterdam:20261210T183000
LOCATION:OC Damberd\, 11\, Marktplein\, Hille\, Zwevezele\, Wingene\, Tielt
 \, West-Vlaanderen\, 8750\, België
SEQUENCE:0
SUMMARY:Workshop " Creatief met Christa "
UID:agenda-148@fotoflare.fotoclubsite.nl
END:VEVENT
END:VCALENDAR
