BEGIN:VCALENDAR
PRODID:-//github.com/ical-org/ical.net//NONSGML ical.net 5.2.1//EN
VERSION:2.0
BEGIN:VEVENT
DESCRIPTION:Geen activiteiten.
DTEND;TZID=Europe/Amsterdam:20260831T215900
DTSTAMP:20260425T170728Z
DTSTART;TZID=Europe/Amsterdam:20260701T060000
SEQUENCE:0
SUMMARY:Zomerbreak
UID:agenda-149@fotoflare.fotoclubsite.nl
END:VEVENT
END:VCALENDAR
