BEGIN:VCALENDAR
PRODID:-//github.com/ical-org/ical.net//NONSGML ical.net 5.2.1//EN
VERSION:2.0
BEGIN:VEVENT
DESCRIPTION:
DTEND;TZID=Europe/Amsterdam:20260530T140000
DTSTAMP:20260425T135213Z
DTSTART;TZID=Europe/Amsterdam:20260530T090000
LOCATION:Verbeke Foundation\, 1\, Westakker\, Tromp\, Kemzeke\, Stekene\, S
 int-Niklaas\, Oost-Vlaanderen\, 9190\, België
SEQUENCE:0
SUMMARY:Workshop Verbeke Foundation
UID:agenda-95@fotoflare.fotoclubsite.nl
END:VEVENT
END:VCALENDAR
